BEGIN:VCALENDAR
VERSION:2.0
METHOD:PUBLISH
X-WR-CALNAME;VALUE=TEXT:
PRODID:-//Drupal iCal API//EN
BEGIN:VEVENT
DTSTART:20260712T070000Z
DTEND:20260716T140000Z

SUMMARY:Letní škola TAH Impact Academy 2026 (Praha)
DESCRIPTION:Letní škola TAH Impact Academy je zpět — tentokrát pro ty, kdo s AI už pracují a chtějí jít dál. Pět intenzivních dnů v Praze pro akademické pracovníky z celé Evropy: prakticky, mezioborově a s důrazem na odpovědnost a kreativitu.
END:VEVENT

END:VCALENDAR
